BEGIN:VCALENDAR
VERSION:2.0
PRODID:icalendar-ruby
CALSCALE:GREGORIAN
BEGIN:VEVENT
DTSTAMP:20260421T234537Z
UID:9e0e38c4-3beb-4363-a446-5adf4c415619
DTSTART:20260531T110000
DTEND:20260531T180000
DESCRIPTION:
LOCATION:Heinrich-Püts-Straße  33378 Wiedenbrück
SUMMARY:Schneider´S Trödelmärkte
END:VEVENT
END:VCALENDAR
