BEGIN:VCALENDAR
VERSION:2.0
PRODID:icalendar-ruby
CALSCALE:GREGORIAN
BEGIN:VEVENT
DTSTAMP:20260420T074527Z
UID:74807505-041d-4bbf-96cd-d83ecb6321c2
DTSTART:20261101T080000
DTEND:20261101T160000
DESCRIPTION:Antik- und Trödelmarkt\, Trödelpiste\n \nStandort: famila\,
  Rettiner Weg 77\, 23730 Neustadt in Holstein\nPreise:\n1m = 8€ Antik- u
 nd Trödel\nNeuware nur nach Absprache\nAufbau/Abbau:\nSo. ab 6.00Uhr / ab
  16.00Uhr\n \nKontakt: \nTel: 015226108792\nE-Mail: flohmarktinformation
 @gmail.com\nWeb: www.trödelpiste.de
LOCATION:Rettiner Weg 77 23730 Neustadt
SUMMARY:Flohmarkt\, Antik- und Trödelmarkt (Neustadt in Holstein\, famila)
END:VEVENT
END:VCALENDAR
