BEGIN:VCALENDAR
VERSION:2.0
PRODID:icalendar-ruby
CALSCALE:GREGORIAN
BEGIN:VEVENT
DTSTAMP:20260421T001548Z
UID:96617c16-2979-44c6-b429-f6959263c2a4
DTSTART:20260726T080000
DTEND:20260726T160000
DESCRIPTION:Antik- und Trödelmarkt\, Trödelpiste\n \nStandort: Am Markt
  1\, 23730 Neustadt in Holstein (Marktplatz)\n \nPreise:\n1m = 8€ Antik
 - und Trödel\nNeuware nur nach Absprache\n \nAufbau/Abbau:\nSo. ab 6.00U
 hr / ab 16.00Uhr\n \nKontakt: \nTel: 015226108792\nE-Mail: flohmarktinfo
 rmation@gmail.com\nWeb: www.trödelpiste.de
LOCATION:Am Markt 1 23730 Neustadt
SUMMARY:Flohmarkt\, Antik- und Trödelmarkt (Neustadt in Holstein\, Marktpl
 atz)
END:VEVENT
END:VCALENDAR
