BEGIN:VCALENDAR
VERSION:2.0
PRODID:icalendar-ruby
CALSCALE:GREGORIAN
BEGIN:VEVENT
DTSTAMP:20260420T001433Z
UID:0fcbc8c3-b044-4074-ba17-5cbf249c4397
DTSTART:20260704T080000
DTEND:20260704T160000
DESCRIPTION:Antik- und Trödelmarkt\, Trödelpiste\n \nStandort: Frascati
 platz\, Neuer Weg 57\, 21029 Hamburg Bergedorf \n \nPreise:\n1m = 10€ 
 Antik- und Trödel\nNeuware nur nach Absprache\n \nAufbau/Abbau:\nSa/So. 
 ab 6.00Uhr / ab 16.00Uhr\nAnreise freitags ab 13:00 Uhr möglich\n \nKont
 akt: \nTel: 015226108792\nE-Mail: flohmarktinformation@gmail.com\nWeb: ww
 w.trödelpiste.de
LOCATION:Neuer Weg 57 21029 Bergedorf
SUMMARY:Flohmarkt\, Antik- und Trödelmarkt (Hamburg Bergedorf)
END:VEVENT
END:VCALENDAR
