BEGIN:VCALENDAR
VERSION:2.0
PRODID:icalendar-ruby
CALSCALE:GREGORIAN
BEGIN:VEVENT
DTSTAMP:20260421T090214Z
UID:c5fc0303-6dde-4369-9d76-64a4ed42f3e6
DTSTART:20260503T080000
DTEND:20260503T160000
DESCRIPTION:Antik- und Trödelmarkt\, Trödelpiste\n \nStandort: Am Kirch
 turmblick 6\, 23999 Kirchdorf\n \nPreise:\n1m = 8€ Antik- und Trödel\n
 Neuware nur nach Absprache\n \nAufbau/Abbau:\nSa/So. ab 6.00Uhr / ab 16.0
 0Uhr\nAnreise freitags ab 17:00 Uhr möglich\n \nKontakt: \nTel: 0152261
 08792\nE-Mail: flohmarktinformation@gmail.com\nWeb: www.trödelpiste.de
LOCATION:Am Kirchturmblick 6 23999 Kirchdorf
SUMMARY:Flohmarkt\, Antik- und Trödelmarkt (Insel Poel\, Kirchdorf)
END:VEVENT
END:VCALENDAR
