BEGIN:VCALENDAR
VERSION:2.0
PRODID:icalendar-ruby
CALSCALE:GREGORIAN
BEGIN:VEVENT
DTSTAMP:20260421T105623Z
UID:cae1e07e-110c-49d4-a631-791bd6833a03
DTSTART:20260606T080000
DTEND:20260606T160000
DESCRIPTION:Antik- und Trödelmarkt\, Trödelpiste\n \nStandort: Am Kirch
 turmblick 6\, 23999 Kirchdorf\n \nPreise:\n1m = 8€ Antik- und Trödel\n
 Neuware nur nach Absprache\n \nAufbau/Abbau:\nSa/So. ab 6.00Uhr / ab 16.0
 0Uhr\nAnreise freitags ab 17:00 Uhr möglich\n \nKontakt: \nTel: 0152261
 08792\nE-Mail: flohmarktinformation@gmail.com\nWeb: www.trödelpiste.de
LOCATION:Am Kirchturmblick 6 23999 Kirchdorf
SUMMARY:Flohmarkt\, Antik- und Trödelmarkt (Insel Poel\, Kirchdorf)
END:VEVENT
END:VCALENDAR
