BEGIN:VCALENDAR
VERSION:2.0
PRODID:icalendar-ruby
CALSCALE:GREGORIAN
BEGIN:VEVENT
DTSTAMP:20260422T064149Z
UID:388f1ac8-c9b1-423d-8ce6-de13048f69e6
DTSTART:20260425T130000
DTEND:20260425T163000
DESCRIPTION:Am Samstag\, den 25. April 2026\, findet im Bürgerzentrum Bruc
 hsal ein Event statt\, das sich ganz der Mode widmet. Der Beauty Jungle M
 ädchenflohmarkt Bruchsal lädt Besucherinnen zwischen 13.00 und 16.30 Uhr
  zu einem besonderen Shopping-Erlebnis ein.\nIm Mittelpunkt steht ein mode
 rner Indoor Fashionmarkt Bruchsal\, der Modefans eine große Auswahl an Se
 condhand Kleidung bietet.\nDer moderne FrauenflohmarktDer Mädchenflohmark
 t Bruchsal unterscheidet sich deutlich von einem klassischen Flohmarkt Bru
 chsal. Statt gemischter Waren dreht sich hier alles um Kleidung und Access
 oires.\nDer Fashionmarkt Bruchsal bringt zahlreiche Verkäuferinnen zusamm
 en\, die ihre Kleidung anbieten. Darunter befinden sich viele hochwertige 
 Markenstücke sowie besondere Vintage Highlights.\nDer Vintage Markt Bruch
 sal ist vor allem für Modefans interessant\, die nach einzigartigen Style
 s suchen.\nAuch Curvy und Plus Size Mode gehört zum Angebot.\nModevielfal
 t entdeckenDer Klamottenflohmarkt Bruchsal bietet eine große Auswahl an K
 leidungsstücken.\nVon lässigen Alltagsoutfits bis zu eleganten Kleidern 
 finden Besucherinnen zahlreiche Inspirationen.\nDer Secondhand Markt Bruch
 sal umfasst außerdem viele Accessoires wie Schmuck\, Taschen und Schuhe.\
 nNachhaltige ModeDer Secondhand Markt Bruchsal zeigt\, dass nachhaltige Mo
 de immer beliebter wird.\nBeim Mädchenflohmarkt Bruchsal werden gut erhal
 tene Kleidungsstücke weitergegeben und finden neue Besitzerinnen.\nDer Fr
 auenflohmarkt Bruchsal verbindet Modebewusstsein mit nachhaltigem Konsum.\
 nEntspannte AtmosphäreViele Besucherinnen genießen die besondere Stimmun
 g auf dem Fashionmarkt Bruchsal. Musik begleitet das Shopping und schafft 
 eine angenehme Atmosphäre.\nGemeinsam mit Freundinnen durch die Stände z
 u gehen gehört für viele zum Erlebnis dazu.\nVeranstaltungsortBürgerzen
 trum BruchsalAm Alten Schloß 2276646 Bruchsal\nDie Location bietet optima
 le Bedingungen für einen Indoor Flohmarkt Bruchsal.\nTermineSamstag\, 25.
 04.202613.00 bis 16.30 Uhr\nEintritt: 4 € (Kinder bis 10 frei)\nStandpl
 ätzeWer selbst Kleidung verkaufen möchte\, kann einen Stand auf dem Mäd
 chenflohmarkt Bruchsal buchen.\nDer Klamottenflohmarkt Bruchsal ist eine i
 deale Gelegenheit\, um Mode weiterzugeben.\nStand buchen:https://www.beaut
 y-jungle.de/events/maedchenflohmarkt-in-bruchsal-25-04-2026/Weitere Infos:
 https://www.beauty-jungle.de/anmeldung_und_termine/
LOCATION:Am Alten Schloß 22 76646 
SUMMARY:Beauty Jungle Mädchenflohmarkt Bruchsal
END:VEVENT
END:VCALENDAR
