BEGIN:VCALENDAR
VERSION:2.0
PRODID:icalendar-ruby
CALSCALE:GREGORIAN
BEGIN:VEVENT
DTSTAMP:20260421T113712Z
UID:b3988c94-a9bf-483d-b309-1dbc259f3191
DTSTART:20260517T110000
DTEND:20260517T180000
DESCRIPTION:Monatlich stattfindener Trödelmarkt auf dem Gelände Kaufland 
 in Bedburg. Neben Trödel ist auch Neuware zugelassen. Preise auf Anfrage.
 \nPlatzvergabe am Vortag zwischen 16.00 und 17.00\, am Veranstaltungstag u
 m 7.00 Uhr\nPreis pro lfd. Meter Trödel 10.-€\nKinderdecke pauschal 10.
 -€ mit 2x2m Fläche und nur kindertypischen Artikeln\,  Alter maximal 1
 4 Jahre in Begleitung eines Elternteils\nkleinster Platz 2m mit 2m Tiefe n
 ach hinten\nMüllkaution 10.- €  wird bei sauberem Platz ab frühestens
  15.30 Uhr zurück gezahlt \, bei laufendem Markt ab 16.00 Uhr\n \nAlle I
 nfos auch unter www.märkte-stammen.de
LOCATION:Bahnstraße 15 50181 
SUMMARY:Trödelmarkt Kaufland Bedburg
END:VEVENT
END:VCALENDAR
