BEGIN:VCALENDAR
VERSION:2.0
PRODID:icalendar-ruby
CALSCALE:GREGORIAN
BEGIN:VEVENT
DTSTAMP:20260421T124206Z
UID:61b8ff4b-bd9b-4b7e-92ce-0d457425d28f
DTSTART:20260530T070000
DTEND:20260530T160000
DESCRIPTION:Liebe Flohmarktverkäufer/innen und Flohmarktgäste\,\nwir lade
 n Sie herzlich zu unserem Flohmarkt ein\, der eine Fülle an Schätzen und
  Schnäppchen bereithält! Von Schmuck und Kleidung bis hin zu Haushaltswa
 ren kann man alles Mögliche kaufen und verkaufen. Parkmöglichkeiten werd
 en Ihnen zur Verfügung stehen.\n \nVerkaufsstand:\nBitte beachten Sie\, 
 dass Sie für Ihren Verkaufsstand Tische und Kleiderständer selbst mitbri
 ngen müssen. Dadurch haben Sie die Möglichkeit\, Ihren Stand ganz nach I
 hren Wünschen zu gestalten und Ihre Artikel bestmöglich zu präsentieren
 . Sie können Ihren Stand vor Ihrem Auto aufbauen.\n \nPreise für den St
 andplatz:\n8 Euro pro Meter\nPreis für Kleiderständer:\n3 Euro pro Stüc
 k\n \nWichtige Informationen:\nEs ist keine Reservierung erforderlich! Si
 e können einfach am Flohmarkttag vorbeikommen und Ihren Stand aufbauen.\n
 Bitte beachten Sie\, dass die angegebene Verkaufszeit unabhängig vom Auf-
  und Abbau ist. Der Aufbau beginnt samstags um 07:00 Uhr\, während der Ve
 rkauf von 08:00 Uhr bis 16:00 Uhr stattfindet.\nTische und Kleiderständer
  müssen selbst mitgebracht werden.\n \nWir freuen uns darauf\, Sie auf u
 nserem Flohmarkt begrüßen zu dürfen und gemeinsam einen erfolgreichen T
 ag voller Entdeckungen zu erleben!\nFür weitere Informationen oder Fragen
  können Sie uns gerne kontaktieren unter: 015752925606\n \nHerzliche Gr
 üße\nFMA-Flohmarktagentur
LOCATION:Parkstraße 21 73430 
SUMMARY:Flohmarkt in Aalen am Greut Festplatz 
END:VEVENT
END:VCALENDAR
