BEGIN:VCALENDAR
VERSION:2.0
PRODID:icalendar-ruby
CALSCALE:GREGORIAN
BEGIN:VEVENT
DTSTAMP:20260423T204048Z
UID:adb8d121-beb9-458c-89c2-9ac2771f0f9f
DTSTART:20260509T140000
DTEND:20260509T220000
DESCRIPTION:Übacher MaiblütenfestStadtfest mit Kirmes am Muttertagswochen
 endeHandmade . Neuware . Kunsthandwerk . Spiel- &amp\; Fahrgeschäfte . Ga
 stronomie und mehr\nFreitag ab 14 Uhr: Kirmes\, Gastronomen &amp\; mehr\nS
 amstag ab 14 Uhr: Stadtfest\, Kirmes\, Foodmeile\,Über 80 Verkaufstände 
 von Handmade bis Neuware\, Vereine\, Schausteller und Gastronomen\nSonntag
  ab 11 Uhr: Stadtfest\, Kirmes\, Foodmeile\, verkaufsoffener SonntagÜber 
 80 Verkaufstände von Handmade bis Neuware\, Vereine\, Schausteller und Ga
 stronomen
LOCATION:Rathausplatz Rathausplatz 4 52531 Übach
SUMMARY:Maiblütenfest 2026
END:VEVENT
END:VCALENDAR
