BEGIN:VCALENDAR
VERSION:2.0
PRODID:icalendar-ruby
CALSCALE:GREGORIAN
BEGIN:VEVENT
DTSTAMP:20260423T204112Z
UID:7c221be9-a493-4ca3-a732-73505975cf19
DTSTART:20260510T110000
DTEND:20260510T180000
DESCRIPTION:Übacher MaiblütenfestStadtfest mit Kirmes am Muttertagswochen
 endeHandmade . Neuware . Kunsthandwerk . Spiel- &amp\; Fahrgeschäfte . Ga
 stronomie und mehr\nFreitag ab 14 Uhr: Kirmes\, Gastronomen &amp\; mehr\nS
 amstag ab 14 Uhr: Stadtfest\, Kirmes\, Foodmeile\,Über 80 Verkaufstände 
 von Handmade bis Neuware\, Vereine\, Schausteller und Gastronomen\nSonntag
  ab 11 Uhr: Stadtfest\, Kirmes\, Foodmeile\, verkaufsoffener SonntagÜber 
 80 Verkaufstände von Handmade bis Neuware\, Vereine\, Schausteller und Ga
 stronomen
LOCATION:Rathausplatz Rathausplatz 4 52531 Übach
SUMMARY:Maiblütenfest 2026
END:VEVENT
END:VCALENDAR
