BEGIN:VCALENDAR
VERSION:2.0
PRODID:icalendar-ruby
CALSCALE:GREGORIAN
BEGIN:VEVENT
DTSTAMP:20260424T030054Z
UID:8b03f5fa-3132-4833-9d21-a1feda64f31e
DTSTART:20260531T100000
DTEND:20260531T170000
DESCRIPTION:Flohmarkt für Alle !Am 15 März 2026 ist Jahrmarkt in Markt In
 dersdorf und verkaufsoffener Sonntag für alle Einzelhändler.Direkt am Ma
 rktplatz und am Angerweg gibts den traditionellen Flohmarkt.Flohmarkt Auss
 teller bitte anmelden.0172 - 8283611oder: oberacher@t-online.deKosten je M
 eter 4 €
LOCATION:Marktplatz 2 85229 
SUMMARY:Flohmarkt für alle
END:VEVENT
END:VCALENDAR
