BEGIN:VCALENDAR
VERSION:2.0
PRODID:icalendar-ruby
CALSCALE:GREGORIAN
BEGIN:VEVENT
DTSTAMP:20260424T012638Z
UID:b9d604a0-6663-445f-8461-e72f8f24853d
DTSTART:20260913T100000
DTEND:20260913T170000
DESCRIPTION:Flohmarkt für Alle !Am 15 März 2026 ist Jahrmarkt in Markt In
 dersdorf und verkaufsoffener Sonntag für alle Einzelhändler.Direkt am Ma
 rktplatz und am Angerweg gibts den traditionellen Flohmarkt.Flohmarkt Auss
 teller bitte anmelden.0172 - 8283611oder: oberacher@t-online.deKosten je M
 eter 4 €
LOCATION:Marktplatz 2 85229 
SUMMARY:Flohmarkt für alle
END:VEVENT
END:VCALENDAR
