BEGIN:VCALENDAR
VERSION:2.0
PRODID:icalendar-ruby
CALSCALE:GREGORIAN
BEGIN:VEVENT
DTSTAMP:20260424T190444Z
UID:e57a4e75-1d32-442f-99b2-beb3770beead
DTSTART:20260531T080000
DTEND:20260531T160000
DESCRIPTION:Flohmarkt / Trödelmarkt auf dem Parkplatz der Firma REWE in Er
 langen.\nDieser Platz befindet sich direkt an der Cumianastraße 4 in 9105
 8 Erlangen.\nKomplett asphaltiert - hier ist immer der Teufel los. Gute Um
 sätze sind hier üblich.\nErreichbar mit:\nBuslinien 280\, 281 und 289 Ha
 ltestelle Forschungszentrum\nAutobahnausfahrt A73 Erlangen Bruck / Erlange
 n Süd\nOnlinereservierung unter www.troedelteam-graage.de empfohlen oder\
 nam Vortag von 20 bis 21 Uhr direkt am Platzoder Sonntag früh ab 8 Uhr ko
 mmen!\nTrödel: 6 Meter mit Auto oder Anhänger 35\,00€\nSie möchten ei
 nen kleinen Stand:Je Meter Trödel 5\,00€\nGrundgebühr an Sonntags und 
 Feiertagsmärkten pro Stand: 3 Euro\nTermindaueransage: 0911 - 32 96 23Bei
  weiteren Fragen erreichen Sie uns unterThomas: 0175 - 20 80 762 oder Dani
 : 0175 - 24 68 169 oder Lilli: 0171 - 79 41 826\nJetzt gleich Platz sicher
 n!Onlinereservierung unter:www.troedelteam-graage.de / Onlinereservierung\
 nLasst uns doch bitte unter https://www.facebook.com/troedelteam.graage/ E
 uer Like da.
LOCATION:Cumianastraße 4 91058 Bruck
SUMMARY:Flohmarkt / Trödelmarkt REWE Erlangen Cumianastraße 4 - ideal fü
 r Privatanbieter
END:VEVENT
END:VCALENDAR
