BEGIN:VCALENDAR
VERSION:2.0
PRODID:icalendar-ruby
CALSCALE:GREGORIAN
BEGIN:VEVENT
DTSTAMP:20260424T210659Z
UID:ccacd8f7-b0a9-4d37-bd8a-e2279601b775
DTSTART:20260620T080000
DTEND:20260620T150000
DESCRIPTION:https://fetzer-veranstaltungen.de/index.php\nFetzer GmbH Verans
 talterRaiffeisenstr. 5Immenstadt 87509 Deutschland\nTel: 08323 96 74 14E-M
 ail: info@fetzermessen.de
LOCATION:Trautenmühleweg 13 88046 
SUMMARY:Flohmarkt Friedrichshafen Messeparkplatz P7
END:VEVENT
END:VCALENDAR
