BEGIN:VCALENDAR
VERSION:2.0
PRODID:icalendar-ruby
CALSCALE:GREGORIAN
BEGIN:VEVENT
DTSTAMP:20260425T122355Z
UID:7c7aaf3f-f482-436e-bec6-bc227557c8a6
DTSTART:20260425T080000
DTEND:20260425T140000
DESCRIPTION:https://fetzer-veranstaltungen.de/index.php\nFetzer GmbH Verans
 talterRaiffeisenstr. 5Immenstadt 87509 Deutschland\nTel: 08323 96 74 14E-M
 ail: info@fetzermessen.de
LOCATION:Hopfenweilerweg 12 88339 
SUMMARY:Flohmarkt Bad Waldsee Freigelände
END:VEVENT
END:VCALENDAR
