BEGIN:VCALENDAR
VERSION:2.0
PRODID:icalendar-ruby
CALSCALE:GREGORIAN
BEGIN:VEVENT
DTSTAMP:20260425T111700Z
UID:65089ee8-1e52-4c3f-b355-d66741800a33
DTSTART:20260627T080000
DTEND:20260627T140000
DESCRIPTION:https://fetzer-veranstaltungen.de/index.php\nFetzer GmbH Verans
 talterRaiffeisenstr. 5Immenstadt 87509 Deutschland\nTel: 08323 96 74 14E-M
 ail: info@fetzermessen.de
LOCATION:Hopfenweilerweg 12 88339 
SUMMARY:Flohmarkt Bad Waldsee Freigelände
END:VEVENT
END:VCALENDAR
