BEGIN:VCALENDAR
VERSION:2.0
PRODID:icalendar-ruby
CALSCALE:GREGORIAN
BEGIN:VEVENT
DTSTAMP:20260425T112138Z
UID:4f67ed87-396e-40be-af07-46a8ad768511
DTSTART:20260926T080000
DTEND:20260926T140000
DESCRIPTION:https://fetzer-veranstaltungen.de/index.php\nFetzer GmbH Verans
 talterRaiffeisenstr. 5Immenstadt 87509 Deutschland\nTel: 08323 96 74 14E-M
 ail: info@fetzermessen.de
LOCATION:Hopfenweilerweg 12 88339 
SUMMARY:Flohmarkt Bad Waldsee Freigelände
END:VEVENT
END:VCALENDAR
