BEGIN:VCALENDAR
VERSION:2.0
PRODID:icalendar-ruby
CALSCALE:GREGORIAN
BEGIN:VEVENT
DTSTAMP:20260425T193447Z
UID:ab869680-24c4-43a9-950e-5cc2df509bcf
DTSTART:20260725T060000
DTEND:20260725T170000
DESCRIPTION:Flohmarkt\nPlatzvergabe Samstag und Sonntag ab 6.00 Uhr\nTröde
 l: Pkw am Stand 3 bis 5 Meter Aufbau vorm Fahrzeug 30\,-€\nTrödel: Pkw 
 mit Anhänger Aufbau bis 7 Meter vorm Fahrzeug 45\,-€\,\nDieser Preis gi
 ldet für einen normalen Pkw mit einem Anhänger bis 2\,5 Meter.\nTrödel:
  Transporter bis 7 Meter 45\,-€\njeder weitere Meter Trödel 5\,-€\nOh
 ne Fahrzeug am Stand:\nTrödel: der erste Meter 10\,-€\nTrödel: 2 Meter
  20\,-€\, ab 3 bis 5 Meter 30\,- €\n \nFahrzeug ab 3 Meter am Stand:\
 nVor Ort zuständig Fa. Suermann\nInfo: 0171-2884978
LOCATION:Angerweg 18 37632 
SUMMARY:Flohmarkt auf dem Angerplatz 
END:VEVENT
END:VCALENDAR
