BEGIN:VCALENDAR
VERSION:2.0
PRODID:icalendar-ruby
CALSCALE:GREGORIAN
BEGIN:VEVENT
DTSTAMP:20260423T162538Z
UID:db121846-6d94-4aac-8cb8-0194291e3284
DTSTART:20260607T060000
DTEND:20260607T160000
DESCRIPTION:Enkler - Einer der günstigsten Veranstalter Süddeutschlands. 
 Bekannt für gutbesuchte und umsatzstarke Floh-\, Trödel-\, Sammler- und 
 Jahrmärkte in Ihrer Nähe. Bekannt und bewährt seit über 30 Jahren!!!\n
 Weitere Infos unter: www.markt-enkler.de\nGerne beantworten wir Ihre Frage
 n\, schreiben Sie uns einfach eine Email:enklers-maerkte@web.de
LOCATION:Barteläcker 13 92283 
SUMMARY:Lauterhofen Edeka Wiesmeth
END:VEVENT
END:VCALENDAR
