BEGIN:VCALENDAR
VERSION:2.0
PRODID:icalendar-ruby
CALSCALE:GREGORIAN
BEGIN:VEVENT
DTSTAMP:20260420T043409Z
UID:6052ac48-5670-499e-b79c-fc9a78540417
DTSTART:20260524T070000
DTEND:20260524T160000
DESCRIPTION:Waseems Markt \n \n \n \n Am 24.05.2026 findet in Lohne Fl
 ohmarkt statt bei Aldi auf dem großen Parkplatz \n \n \nAufbau ab 7:00
  Uhr Marktende 16:00 Uhr.\n \n \n \nVorheriger Aufbau ist nicht erlaubt
  .\n \n \n \n \n \n \n \nTrödler : Standgeld laufender Meter 10\,0
 0 €\n \n \n \n \n \n \n \nNeuware: Standgeld laufender Meter 12\,
 00€\n \n \n \n \n \n \n \n \n \n \n \nDie Anordnungen der Mar
 ktleitung und seine Ordner ist Folge zu leisten\, ansonsten erfolgt ein Pl
 atzverweis.\n \n \n \n \n \n \n \nAnmeldung unter\n \n \n \nWase
 em Handynummer\n \n \n \n: 0152 33778899\n \n \n \n \n \n \n \nW
 ir freuen uns auf Ihren Besuch und wünschen Ihnen gute Geschäfte
LOCATION:Lindenstraße 113 49393 
SUMMARY:Flohmarkt in Lohne bei ALDI am 24.05.2026
END:VEVENT
END:VCALENDAR
