BEGIN:VCALENDAR
VERSION:2.0
PRODID:icalendar-ruby
CALSCALE:GREGORIAN
BEGIN:VEVENT
DTSTAMP:20260420T181609Z
UID:f68daf80-e2d5-4070-bbfc-1cf868e44a4b
DTSTART:20260517T110000
DTEND:20260517T180000
DESCRIPTION:Und los geht es wieder. 17.05.2026 11-18 Uhr (Aufbau ab 09:00 U
 hr möglich) Sowwerummer Flohmarkt in der oberen Großstraße in Bad Sober
 nheim.\nKeine Voranmeldung! Einfach kommen und dazustellen. Alle Regeln un
 d der Lageplan unter https://www.nrml.de/flohmarkt\nPreise\nGewerblicher H
 andel Grundpreis: 10\, - € + 4\, - € den laufenden Meter\nPrivatGrundp
 reis: 5\, - € + 2\, - € den laufenden Meter\nAbrechnung in bar vor Ort
 . Reservierungen sind nicht möglich.\nKinder und Jugendliche bis 14 Jahre
  frei bei Handel mit altersüblichen Produkten.\nDer Sowwerummer Flohmarkt
  ist Teil des Frühlingsmarkts (auch verkaufsoffener Sonntag) von SoAktuel
 l Bad Sobernheim und wird organisiert von Kai Sommer und der NRML (Website
 \, Automation und Individualsoftware).\nDie Einnahmen dienen der Kostendec
 kung\, alles darüber hinaus wird - wie die Jahre zuvor - gesammelt und an
 schließend gespendet.
LOCATION:Großstraße  55566 
SUMMARY:Sowwerummer Flohmarkt - Frühlings-Edition 2026
END:VEVENT
END:VCALENDAR
