BEGIN:VCALENDAR
VERSION:2.0
PRODID:icalendar-ruby
CALSCALE:GREGORIAN
BEGIN:VEVENT
DTSTAMP:20260420T122728Z
UID:fe73650b-4f34-4738-b30e-91250118d586
DTSTART:20260531T060000
DTEND:20260531T160000
DESCRIPTION:Enkler - Einer der günstigsten Veranstalter Süddeutschlands. 
 Bekannt für gutbesuchte und umsatzstarke Floh-\, Trödel-\, Sammler- und 
 Jahrmärkte in Ihrer Nähe. Bekannt und bewährt seit über 25 Jahren!!!\n
  \nWeitere Infos unter: www.markt-enkler.de\nGerne beantworten wir Ihre F
 ragen\, schreiben Sie uns einfach eine Email:enklers-maerkte@web.de
LOCATION:Bahnhofstraße 9 91623 
SUMMARY:Sachsen bei Ansbach\, ehem. Edeka-Lager
END:VEVENT
END:VCALENDAR
