BEGIN:VCALENDAR
VERSION:2.0
PRODID:icalendar-ruby
CALSCALE:GREGORIAN
BEGIN:VEVENT
DTSTAMP:20260420T140532Z
UID:1f01a5a9-b8d1-4af6-9d02-db64a1e57744
DTSTART:20260704T090000
DTEND:20260704T160000
DESCRIPTION:Der Markt findet am Einkaufszentrum Werderpark in Werder (Havel
 ) auf dem Parkplatz statt\nKosten: die ersten 2 m 15.- Euro jeder weitere 
 m 5.- Euro\nAufbau für Händler ab 07 Uhr\nAnmeldung bei: Inge Lauwaßer 
 0173 61 55 456 oder per Mail i.lauwaszer@havel-kuenstler.de\nWegeleitsyste
 m\neigene Tische sind mitzubringen\nParkplätze vor dem Einkaufszentrum\nT
 oiletten sind im Einkaufszentrum \nSpeisen und Getränke im Einkaufszentr
 um
LOCATION:Auf dem Strengfeld 6 14542 
SUMMARY:Kreativ- &amp\; Antikmarkt
END:VEVENT
END:VCALENDAR
