BEGIN:VCALENDAR
VERSION:2.0
PRODID:icalendar-ruby
CALSCALE:GREGORIAN
BEGIN:VEVENT
DTSTAMP:20260420T134655Z
UID:250037a5-ffe6-40e5-92e3-2e86b44fb0c6
DTSTART:20260531T120000
DTEND:20260531T220000
DESCRIPTION:KUNST\, KULTUR UND KULINARIK\nGemütlich verweilen im großen B
 iergarten auf einem der schönsten Plätze der Hattinger Altstadt.\nKulina
 rische Kostbarkeiten\, frisch gezapftes Wiegenbräu genießen und den Klä
 ngen der Kleinkunstbühne lauschen…\nEingebettet in ein buntes Markttrei
 ben und Kunstausstellung\nim gesamten St.- Georgs-Viertel bis hin zum Resc
 hop Carré.\n\nRegionale und internationale Erlebnisgastronomie mit große
 m Biergarten : mit den Wiegenbräuern aus Sprockhövel und der vielfach au
 sgezeichneten Grillwurst von Thiers aus Wattenscheid\nRegionale und intern
 ationale Künstler\, Kunsthandwerker und Markthändler\nSinger-Songwriter\
 , Dance Acts\, DJ‘s\nDesigner und Kreative\n\nMarktzeiten:\nFr. und Sa. 
 12 - 22 Uhr / So. 12 - 19 Uhr (verkaufsoffener Sonntag)
LOCATION:Steinhagen  45525 
SUMMARY:Hattinger Altstadtfest
END:VEVENT
END:VCALENDAR
