BEGIN:VCALENDAR
VERSION:2.0
PRODID:icalendar-ruby
CALSCALE:GREGORIAN
BEGIN:VEVENT
DTSTAMP:20260420T140533Z
UID:0e2810a2-9d14-4467-88d4-5bf5fe5d95f9
DTSTART:20260509T110000
DTEND:20260509T160000
DESCRIPTION:Samstag 08.05.2026 großer privater Trödelmarkt mit vielen Tei
 lnehmern\, Parkplatz Autohaus Vanderfuhr\, An der Plüschweberei 19 (gegen
 über vom grünen Wasserturm)\, 47929 Grefrath von 11 -16 Uhr \n \nAngeb
 oten werden jede Menge Kinder- und Babysachen\, Spielsachen\, Trödel\, B
 ücher\, Dekoartikel\, Bekleidung\, Kreatives\, Selbstgemachtes\, viel Tie
 rzubehör.\n \nEinige Stände trödeln zugunsten des Gnadenhofes Notfelle
  Kunterbunt\, Ehrenamtler der Igelhilfe stehen mit Tipps zur Verfügung.\n
  \nFutterspenden für den Gnadenhof werden dankend angenommen\, besonders
  Katzennassfutter.\n \nAm 09.05.2026 findet zum ersten Mal in Grefrath ei
 n Dorftrödel statt\, wo jeder Teilnehmer auf seinem Privatgrundstück tr
 ödeln kann. Wir beteiligen uns mit 15 Teilnehmern auf dem Parkplatz Autoh
 aus Vanderfuhr.\n \nAlle Standplätze sind vergeben\, Anfragen zwecklos.\
 nWeitere Informationen findet man unter www.troedeltag.de
LOCATION:An der Plüschweberei 19 47929 
SUMMARY:großer privater Trödelmarkt Hoftrödel Kinderbörse Flohmarkt am 
 Samstag 09.05.2026 Parkplatz Autohaus Vanderfuhr in 47929 Grefrath\, An de
 r Plüschweberei 19 beim Grefrather Dorftrödel 
END:VEVENT
END:VCALENDAR
