BEGIN:VCALENDAR
VERSION:2.0
PRODID:icalendar-ruby
CALSCALE:GREGORIAN
BEGIN:VEVENT
DTSTAMP:20260420T152207Z
UID:5664d1e3-d30c-4ca5-83f5-94aace664a2d
DTSTART:20260509T110000
DTEND:20260509T180000
DESCRIPTION:Garten- und Wellnessfest im Kurpark Bad Salzdetfurth am 09. und
  10. Mai 2026\nWenn der Kurpark von Bad Salzdetfurth im Frühlingsglanz er
 strahlt\, ist es wieder so weit: Das beliebte Garten- und Wellnessfest keh
 rt am 09. und 10. Mai bereits zum 14. Mal zurück! Über 80 Aussteller aus
  ganz Deutschland reisen an\, um die neuesten Trends aus den Bereichen Gar
 ten\, Wellness und Kunsthandwerk zu präsentieren. Zwischen den imposanten
 \, 250 Jahre alten Gradierwerken und auf den weitläufigen Grünflächen g
 ibt es an diesem Wochenende wieder viel zu entdecken.\n \nInspiration fü
 r Gartenfreunde\nDie Gartensaison ist eröffnet. Das bedeutet\, es ist wie
 der Zeit\, den Balkon\, die Terrasse und den Garten aufzufrischen! Auf ein
 er 300 Quadratmeter großen Rasenfläche finden die Besucher mehr als 1000
  verschiedene Dekoelemente von Gartensteckern\, Windspielen\, Körben\, Fi
 guren\, Betondeko bis hin zu Rankgittern aus Stahl und Edelrost.   \nBe
 i „La Maison“ erwartet die Besucher eine breite Auswahl an stilvoller 
 Wohndekorationen\, die das eigene Zuhause optisch und funktional bereicher
 t. Von dekorativen Akzenten bis hin zu praktischen Wohnaccessoires bietet 
 das Sortiment passende Lösungen für unterschiedliche Geschmäcker und Wo
 hnkonzepte. Darüber hinaus präsentiert La Maison innovative Möglichkeit
 en der künstlichen Raumbegrünung: Ob Kunstmoos oder hochwertige Seidenbl
 umen auch für eine pflegeleichte\, ansprechende Begrünung der eigenen vi
 er Wände finden Interessierte am Stand vielfältige Inspirationen.\n \nW
 ieder mit dabei ist die die Blooming Company aus den Niederlanden. Ob farb
 enprächtige Tulpen\, elegante Narzissen oder duftende Hyazinthen\, Blumen
 zwiebeln bieten für jede Jahreszeit und jeden Gartenstil die passende Aus
 wahl für Garten\, Balkon und Landschaftsgestaltung.Im Pavillon gegenüber
  der Kurparkbühne zeigt das „Orchideen Neuhaus“ aus Hückeswagen die 
 Vielfalt seltener Orchideenarten. Besucher können hier nicht nur mehr üb
 er Pflege und Artenvielfalt der „Königin der Blumen“ erfahren\, sonde
 rn auch ihre eigenen Orchideen mitbringen und vor Ort fachgerecht umtopfen
  lassen.\n \nKunst\, Kreativität und Handwerk\nZwischen den Gradierwerke
 n wird Kunst erlebbar: Zahlreiche Kunsthandwerker und Designer präsentier
 en dort ihre kreativen Arbeiten. Mit dabei ist auch Sabine Nordmeyer\, die
  über 500 handgefertigte Keramikunikate ausstellt. Diese sind gefertigt a
 us hochweiß brennendem Gießton und veredelt mit einer Auswahl aus über 
 1000 Glasuren. Ihre Werkstatt in Peine\, in der sie auch Kurse anbietet\, 
 ist bekannt für kreative Formen und stilvolle Designs für Haus und Garte
 n.\n \nWer auf der Suche nach einzigarten Glasunikaten\, in unterschiedli
 chen Formen und Farben ist\, wird am Stand von Laura Leppich fündig. Sie 
 stellt mit Hilfe von Altglas aus Mexico bunte mundgeblasene Glaskreationen
  her. Durch dieses Recyclingverfahren wird weniger Energie als bei industr
 iell hergestelltem Glas verbraucht und sieht sogar noch schön aus. So ent
 stehen Trinkgläser in verschiedenen Größen\, Glasherzen\, Kugeln oder S
 treudeko.\n \nBei der Schmuckdesignerin Petra Ernst können die Besucher 
 im Kurpark über die Schulter schauen. Sie zeigt wie aus den Materialien M
 uscheln\, Leder\, Swarovski-Steinen und Zuchtperlen einzigartige Schmuckst
 ücke\, wie Halsketten\, Armbänder\, Ohrringe oder Fingerringe entstehen.
 \nModebewusste Besucher können sich auf Bertha Hantusch freuen. Die aus P
 eru stammende Designerin verarbeitet Alpakawolle zu einzigartigen Pullover
 n\, Jacken und Socken für Groß und Klein. Die hochwertige Naturfaser ist
  nicht nur hautfreundlich\, sondern auch temperaturausgleichend\, also ide
 al für jede Jahreszeit. Ihre Mode steht für Qualität\, Stil und Nachhal
 tigkeit.\n \nWohlfühlen und Gesundheit\nAuch das Thema Wohlbefinden und 
 Gesundheit spielt beim Garten- und Wellnessfest eine zentrale Rolle. Von d
 urchblutungsfördernden Geräten über ergonomische Produkte für den Rüc
 ken bis hin zu Raumdüften und Ernährungstipps.\nEin besonderes Highlight
  ist der Stand von Klaus-Michael Jähnig aus Winsen. Er stellt von Hand ge
 siedete Seifen her. Ein jahrtausendealtes Handwerk\, das er mit modernen\,
  biologisch kontrollierten Pflanzenölen und ätherischen Düften neu inte
 rpretiert. Wer empfindlich auf Düfte reagiert\, wird ebenfalls fündig: E
 s gibt auch komplett duftfreie Varianten. Passend dazu bietet Jähnig lieb
 evoll gestaltete Seifentaschen in bunten Designs an.\n \nInformation und 
 Beratung\nAn zahlreichen Ständen können sich die Besucher über vielfäl
 tige Themen Informieren\, wie E-Bikes\, Physiotherapie\, Coaching\, Tiny H
 äuser\, Kochrezepte\, Fenstersysteme oder Photovoltaik-Anlagen und Wärme
 pumpen.\n \nGenuss für alle Sinne\nNatürlich kommt auch das leibliche W
 ohl nicht zu kurz: Auf dem Platz vor der Kurparkbühne und entlang der Gra
 dierwerke warten wieder internationale und regionale Spezialitäten auf di
 e Besucher. Ob herzhafte Fleischgerichte\, vegetarische und vegane Optione
 n\, hausgemachte Limonaden\, edle Spirituosen\, Crêpes\, Honig vom Imker\
 , Lakritze oder italienisches selbstgemachte Speiseeis ist für jeden Gesc
 hmack etwas dabei.\n \nDer Eintritt zum Garten- und Wellnessfest ist frei
 .\nOrt: Kurpark Bad Salzdetfurth\nAdresse: Unterstraße 87\, 31162 Bad Sal
 zdetfurth\nTermin: 09.05. und 10.05.2026\nÖffnungszeiten: Samstag und Son
 ntag von 11:00 bis 18:00 Uhr\nEintritt: frei\nParken:\nSolebad (Solebadstr
 aße)\nAn der Peesel\nIGS Bad Salzdetfurth (Birkenweg 38)\nUnterstraße / 
 Marktstraße\nBahnanbindung:\nHildesheim - Haltestelle\n"Bad Salzdetfurth-
 Solebad“\n \nhttps://www.garten-wellnessfest.de
LOCATION:Unterstraße 87 31162 
SUMMARY:Garten- und Wellnessfest
END:VEVENT
END:VCALENDAR
