BEGIN:VCALENDAR
VERSION:2.0
PRODID:icalendar-ruby
CALSCALE:GREGORIAN
BEGIN:VEVENT
DTSTAMP:20260420T181708Z
UID:edb11ce5-94f4-48ba-bd80-234c8cd95c46
DTSTART:20260614T100000
DTEND:20260614T170000
DESCRIPTION:Am 14. Juni heißt es nun bereits zum 5. Mal Trödelmarkt zum H
 olzhausfest. \nMittlerweile hat sich diese Veranstaltung fest in Niesky e
 tabliert.\nVon 10- 17 Uhr kann auf der Waldstraße nach Herzenslust getrö
 delt werden. \nEine  Anmeldung ist aus Platzgründen unbedingt erforderl
 ich. \nSchreiben Sie gern eine WhatsApp- Nachricht \, oder rufen mich an:
  0174-3627433 \nEin 3m Stand kostet 20€\, jeder weitere Meter 7€.\nDe
 r Aufbau beginnt ab 8 Uhr\,  Abbau frühestens 30 Minuten vor Veranstaltu
 ngsende. \nIch freue mich auf einen schönen Trödeltag mit Ihnen. 
LOCATION:Waldstraße  02906 
SUMMARY:Trödelmarkt zum Holzhausfest 
END:VEVENT
END:VCALENDAR
