BEGIN:VCALENDAR
VERSION:2.0
PRODID:icalendar-ruby
CALSCALE:GREGORIAN
BEGIN:VEVENT
DTSTAMP:20260420T181631Z
UID:59676e62-afa4-417a-a939-81f52d257ff8
DTSTART:20261011T120000
DTEND:20261011T170000
DESCRIPTION:Aufbau ab 10.00 Uhr\, Verkauf von 12.00 bis 17.00 Uhr\nStandpla
 tz-Reservierungen sind unter www.nmv-marktagentur.de möglich. Diese sind 
 für uns verbindlich\, wenn sie per Vorkasse bezahlt sind. Tragen sie ihre
  Platzgröße/Art unten ein. Bezahlen können sie per paypal oder per Bank
 überweisung (Verwendungszweck nicht vergessen!).\nGerne können sie natü
 rlich auch ohne Reservierung auf unsere Flohmärkte kommen.\nDer laufende 
 Frontmeter Trödel-und Gebrauchtwaren kostet 10 € (Vorkasse 9 €)\, Kle
 iderständer 3 €\, Neuware 12 € (Vorkasse 10 €).
LOCATION:Steinbeisstraße 2/1 72510 
SUMMARY:Sonntag-Flohmarkt auf dem Rewe Parkplatz
END:VEVENT
END:VCALENDAR
