BEGIN:VCALENDAR
VERSION:2.0
PRODID:icalendar-ruby
CALSCALE:GREGORIAN
BEGIN:VEVENT
DTSTAMP:20260421T120916Z
UID:71f3226b-f7c2-41f0-90e9-b00099a2f0aa
DTSTART:20260502T070000
DTEND:20260502T160000
DESCRIPTION:Liebe Flohmarktverkäufer/innen und Flohmarktgäste\,\nwir lade
 n Sie herzlich zu unserem Flohmarkt ein\, der eine Fülle an Schätzen und
  Schnäppchen bereithält! Von Schmuck und Kleidung bis hin zu Haushaltswa
 ren kann man alles Mögliche kaufen und verkaufen. Parkmöglichkeiten werd
 en Ihnen zur Verfügung stehen.\nVerkaufsstand:\nBitte beachten Sie\, dass
  Sie für Ihren Verkaufsstand Tische und Kleiderständer selbst mitbringen
  müssen. Dadurch haben Sie die Möglichkeit\, Ihren Stand ganz nach Ihren
  Wünschen zu gestalten und Ihre Artikel bestmöglich zu präsentieren. Si
 e können Ihren Stand vor Ihrem Auto aufbauen.\n \nPreise für den Standp
 latz:\n8 Euro pro Meter\nPreis für Kleiderständer:\n3 Euro pro Stück\n
  \nWichtige Informationen:Es ist keine Reservierung erforderlich! Sie kö
 nnen einfach am Flohmarkttag vorbeikommen und Ihren Stand aufbauen.\nBitte
  beachten Sie\, dass die angegebene Verkaufszeit unabhängig vom Auf- und 
 Abbau ist. Der Aufbau beginnt samstags um 07:00 Uhr\, während der Verkauf
  von 08:00 Uhr bis 16:00 Uhr stattfindet.\nTische und Kleiderständer müs
 sen selbst mitgebracht werden.\n \nWir freuen uns darauf\, Sie auf unsere
 m Flohmarkt begrüßen zu dürfen und gemeinsam\neinen erfolgreichen Tag v
 oller Entdeckungen zu erleben!\nFür weitere Informationen oder Fragen kö
 nnen Sie uns gerne kontaktieren unter: 015752925606\n \nHerzliche Grüße
 \nFMA-Flohmarktagentur
LOCATION:Parkstraße 21 73430 
SUMMARY:Flohmarkt in Aalen ABGESAGT wegen Frühlingsfest 
END:VEVENT
END:VCALENDAR
