BEGIN:VCALENDAR
VERSION:2.0
PRODID:icalendar-ruby
CALSCALE:GREGORIAN
BEGIN:VEVENT
DTSTAMP:20260421T152433Z
UID:8f072776-df37-4c5a-b0bf-8f96146f39c6
DTSTART:20260502T100000
DTEND:20260502T173000
DESCRIPTION:ANTIKES\, RETRO\, VINTAGE\, MID CENTURY und ANTIQUITÄTEN: ANTI
 KMARKT &amp\; BROCANTE in Schloss Dennenlohe\nOrt: Gutshof von Schloss Den
 nenlohe\, Dennenlohe 1 in UNTERSCHWANINGEN\nWir freuen uns auf Ihr Kommen!
  Bei uns gibt es Möbel\, Lampen\, Sammelsurien\, Kuriositäten\, Geschirr
 \, Tische\, Stühle\, Spiegel und Vintage-Kleidung - zusammengetragen in E
 ngland\, Frankreich\, Österreich und natürlich vom Dachboden des Schloss
 es "Dennenlohe". Eine außergewöhnliche Auswahl an besonderen Stücken er
 wartet Sie - vom Chinesischen Hochzeitsschrank aus dem 19. Jahrhundert bis
  "Sammeltassen". All das im wunderschönen Ambiente des Gutshofes Dennenlo
 he - 600 Quadratmeter voll mit ungewöhnlichen Dingen\, die für jede Wohn
 ung\, für jedes Haus\, für jeden Sammler etwas bieten.  \nACHTUNG - ERS
 TMALS AUCH MIT PFLANZENVERKAUF\, darunter Raritäten von Kräutern und Gem
 üsen. \nWir freuen uns auf Sie und öffnen wieder einmal unsere Pforten!
 01. bis 03. Mai 2026 - 10 bis 17.30 Uhr\n weitere Termine in 2026:09. bis
  10. Mai 2026 - 10 bis 17.30 Uhr 14. bis 17. Mai 2026 - 10 bis 17.30 Uhr
  04. bis 07. Juni 2026 - 10 bis 17. 30 Uhr 13. bis 14. Juni 2026 - 10 bi
 s 17.30 Uhr 20. bis 21. Juni 2026 - 10 bis 17.30 Uhr
LOCATION:Dennenlohe 1 91743 Dennenlohe
SUMMARY:ANTIKES\, RETRO\, VINTAGE\, MID CENTURY und ANTIQUITÄTEN: ANTIKMAR
 KT &amp\; BROCANTE in Schloss Dennenlohe
END:VEVENT
END:VCALENDAR
