BEGIN:VCALENDAR
VERSION:2.0
PRODID:icalendar-ruby
CALSCALE:GREGORIAN
BEGIN:VEVENT
DTSTAMP:20260422T005822Z
UID:5d7392c4-8746-45bd-9383-8b31953fb1f4
DTSTART:20260621T060000
DTEND:20260621T180000
DESCRIPTION:Frühlingsmarkt in Büllingen -Belgien\nAm 21 Juni findet in B
 üllingen ein Frühlingsmarkt statt.Auf der ganzen Hauptstrasse  werden d
 ie verschiedenen Waren angeboten.\nHaushaltswaren \, Bürsten \, Gewürze 
 und Bekleidung aller Art .\nFood Truck\, Käsespezialitäten \,Süsswaren 
 und vieles mehr.\nAuf einen schönen Bereich wird ein kleiner Trödelmarkt
  statt finden .Wir hoffen das sich dieser Markt jedes Jahr vergrößert.
LOCATION:Hauptstraße 16 4760 Büllingen
SUMMARY:Büllingen Frühlingsmarkt
END:VEVENT
END:VCALENDAR
