BEGIN:VCALENDAR
VERSION:2.0
PRODID:icalendar-ruby
CALSCALE:GREGORIAN
BEGIN:VEVENT
DTSTAMP:20260421T232736Z
UID:24702ed7-22c2-4d76-822d-72509b3309d7
DTSTART:20260823T110000
DTEND:20260823T153000
DESCRIPTION:Kinderflohmarkt piratini im Citti-Park Lübeck\nDer beliebte pi
 ratini-markt\, Deutschlands großer Secondhandmarkt für alles rund ums Ki
 nd\, im CITTI-PARK Lübeck: An den Markttagen verwandelt sich sich das Cen
 ter von 11.00 bis 15.30 Uhr in ein Paradies für Familien\, Schnäppchenj
 äger und alle\, die nachhaltige Kinderartikel lieben. Mit über 380 Verka
 ufstischen zählt die Veranstaltung zu den größten Kinderflohmärkten.\n
 Ob gut erhaltene Kinderkleidung\, Spielzeug\, Bücher\, Babyzubehör oder 
 praktische Alltagshelfer – das Angebot ist vielfältig und bietet für j
 edes Alter und jeden Bedarf passende Schätze. Der Piratini-Markt steht f
 ür nachhaltigen Konsum\, Qualität zu fairen Preisen und eine entspannte\
 , familienfreundliche Atmosphäre.\nEin besonderes Extra: Schwangere Besuc
 herinnen dürfen bereits ab 10.30 Uhr gemeinsam mit einer Begleitperson ex
 klusiv auf den Markt\, um sich in Ruhe vorab umzusehen und die besten Stü
 cke zu sichern.\nWer selbst verkaufen möchte\, kann ganz unkompliziert ei
 nen Stand buchen. Die Anmeldung erfolgt online über www.piratini-markt.de
 . Ein Verkaufstisch (Maße: 1\,70 x 0\,80 m) inklusive Stuhl wird gestellt
  und kostet 33\,00 Euro. Zusätzlich steht Platz beispielsweise für eine 
 eigene Kleiderstange zur Verfügung – ideal\, um das Angebot übersichtl
 ich zu präsentieren.\nDer Eintritt für Erwachsene beträgt 4\,50 Euro\, 
 Kinder haben selbstverständlich freien Zugang.\nMit seinem durchdachten K
 onzept\, der großen Auswahl und dem Fokus auf Nachhaltigkeit bietet der P
 iratini-Markt eine ideale Gelegenheit\, gut erhaltene Kinderartikel weiter
 zugeben oder preiswert zu erwerben – ein Erlebnis für die ganze Familie
 .\n \nUm zum Citti-Park Lübeck zu gelangen\, können Sie folgend
 e Optionen nutzen:\nAuto: Der Parkplatz befindet sich im Gewerbege
 biet Herrenholz\, direkt an der A1\, abfahrt „Moisling“.  Bus
 : Die Buslinien 12\, 16 und 21 fahren direkt zum Citti-Park.
LOCATION:Herrenholz 14 23556 Buntekuh
SUMMARY:piratini-markt Citti-Park Lübeck
END:VEVENT
END:VCALENDAR
