BEGIN:VCALENDAR
VERSION:2.0
PRODID:icalendar-ruby
CALSCALE:GREGORIAN
BEGIN:VEVENT
DTSTAMP:20260424T001015Z
UID:4d5c3e1f-cc15-4fbc-9719-3bbfa2d2ef73
DTSTART:20261017T100000
DTEND:20261017T180000
DESCRIPTION:Einmal jährlich verwandeln wir das TZA am Europaplatz in ein P
 aradies für Frauen und Mädels welche auf modische Kleidung und Accessoir
 es stehen. Das großzügige und ebenerdige Foyer lädt geradezu dazu ein -
  und das ganz ohne Gedränge. Tische und Stühle sind vorhanden und dürfe
 n gerne (ohne Aufpreis zur Standmiete) genutzt werden.\nDein Kleiderschran
 k geht nicht mehr zu ? -&gt\; Dann unbedingt als Ausstellerin teilnehmen u
 nd sich einen schönen (Verkaufs-)Tag machen.\nDu bist immer auf der Jagd 
 nach modischen neuen Dingen? Dann unbedingt als Besucher vorbei kommen :-)
 \nBeides? Am meisten Spaß macht`s wenn du beides kombinierst - erst verka
 ufen\, dann oder währenddessen selbst auf Schnäppchenjagd gehen. \nToil
 etten: sind im Foyer vorhanden (übrigens besonders schöne :-))\nParkplä
 tze: Zum Ein- Ausladen für Aussteller direkt am Vorplatz. Parkplätze in 
 der näheren Umgebung oder im eigenen Parkhaus (kostenpflichtig\, ca. 5€
  / Tag).\nGastronomie: Mindestens einen Kaffee und einen kleines Snack bek
 ommt Ihr :-)\nHändlereinlass / Aufbau:ab 8.30 Uhr\nBesuchereinlass:ab 10.
 00 Uhr
LOCATION:Dennewartstraße 25 52068 
SUMMARY:Mädelsflohmarkt im TZA am Europaplatz
END:VEVENT
END:VCALENDAR
