BEGIN:VCALENDAR
VERSION:2.0
PRODID:icalendar-ruby
CALSCALE:GREGORIAN
BEGIN:VEVENT
DTSTAMP:20260424T203351Z
UID:99c3f8f0-709e-4571-93d2-21afbd95b35a
DTSTART:20261114T160000
DTEND:20261114T220000
DESCRIPTION:Hallen-Nachtflohmarkt in Moosburg 2026\n \nSeit nunmehr 7 Jahr
 en erstrahlt die Moosburger Stadthalle im Glanz des Hallen-Nachtflohmarkts
 \, und auch 2026 verspricht wieder ein Jahr voller Schätze und Überrasch
 ungen zu werden. Notiert euch die Daten:\n \nSamstag\, der 14.11.2026\, v
 on 16.00 – 22.00 Uhr\n \nDie Verkaufspforten sind von 16.00 bis etwa 22
 .00 Uhr geöffnet. Die Stadthalle in 85368 Moosburg – Breitenbergstraße
  18\, zeigt sich von ihrer besten Seite: gut beleuchtet\, wohltemperiert u
 nd barrierefrei.\n \nEin Aufruf an alle Flohmarkt-Aficionados: Die golden
 e Stunde des Hallenflohmarkts bricht um 19.00 Uhr an\, wenn sich die Atmos
 phäre von Ansturm entspannt hat\, Finden und Kaufen zu einem stressfreien
  Vergnügen wird.\n \nAuf 1000 Quadratmetern erwarten euch rund 80 Ausste
 ller mit einem kaleidoskopischen Angebot. Von Antiquitäten über Rarität
 en bis hin zu gewöhnlichen Flohmarkt-Fundstücken – Briefmarken\, Münz
 en\, Bücher\, Haushaltsgeräte\, EDV-Laptops\, Kinderspielzeug\, Kleidung
 \, Schmuck und vieles mehr. Hier gibt es Schnäppchen en masse\, und viell
 eicht stoßt ihr sogar auf das eine oder andere vergessene Juwel. Die Ange
 bote sind mit Sorgfalt gepflegt\, und die Verkäufer begrüßen euch mit e
 inem Lächeln. Auch für den kleinen Hunger wird vor Ort bestens gesorgt.\
 n \nDer Hallen-Nachtflohmarkt ist ein Eldorado für Hausfrauen\, Sammler 
 und Antiquitätenliebhaber gleichermaßen. Jeder\, der das 18. Lebensjahr 
 erreicht hat\, kann als Verkäufer mitmachen.\n \nEine rechtzeitige\, sch
 riftliche Anmeldung und verbindlicher Reservierung ist erforderlich\, denn
  die Standplätze sind begrenzt auf maximal 80 Aussteller und sind schnell
  vergriffen. Reservierungen könnt ihr bequem über diesen Link vornehmen:
  http://www.ec-mg.de/kontakt/\n \nFür Eure Standbuchung auf dem Hallen-N
 achtflohmarkt gibt es verschiedene Optionen:\n    Laufender Meter Wandp
 latz in der Halle: 15\,-€ (Tische sind selbst mitzubringen)\n    Lauf
 ender Meter Reiheneckplatz in der Halle: 14\,-€ (Tische sind selbst mitz
 ubringen\, Mindestbuchung von     \n    3 Metern ist erforderlich)\
 n    Laufender Meter Reihenplatz in der Halle: 13\,-€ (Tische sind se
 lbst mitzubringen)\n    Laufender Meter Reihenplatz auf der Bühne11\,-
 € (Tische sind selbst mitzubringen)\n    Laufender Meter Tisch am Rei
 henplatz in der Galerie: 09\,-€ (Tische sind selbst mitzubringen)\n \nE
 igene Tische mitbringen. Beachten Sie\, dass in der Halle die Standtiefe 1
 \,20 Meter (entsprechend 2 Tapeziertische à 0\,60m) nicht überschreiten 
 darf.\n \nIn der Galerie (Obergeschoß) ist die Standtiefe begrenzt auf 0
 \,75 Meter und die Tische sollen unbedingt an der Hallen-Wand angelehnt se
 in\, damit genügend Freiraum für die Besucher beim Gehen gewährleistet 
 wird.\n \nWir verleihen bei Wunsch\, Tische mit einer Größen 1\,75 m x 
 0\,75 m und 1\,25 m x 0\,75 m an\, die Sie bei Bedarf gegen eine Leihgebü
 hr von 4\,-€ pro Stück und Stühle für 2\,-€ pro Stück mieten könn
 en.\nDer Standaufbau ist ab 12.00 Uhr bis etwa 15.00 Uhr zu tätigen\, dam
 it wir die Besucher eher reinlassen können.\n \nEs ist nicht gestattet\,
  Standplätze vor Ende der Veranstaltung ganz oder teilweise abzubauen ode
 r zu räumen. Der Abbau der Stände darf erst ab 22.00 Uhr beginnen und so
 ll bis spätestens 23.00 Uhr erfolgen\n \nDie Sauberkeit eures Standplatz
 es ist Pflicht\, und jeder ist dazu verpflichtet\, seinen Müll mitzunehme
 n. Das Verteilen von Werbematerial jeglicher Art durch Aussteller oder Bes
 ucher während der Veranstaltung ist strengstens untersagt. Mehr Details z
 u unserer Marktordnung findet ihr auf unserer Website: www.ec-mg.de\n \nZ
 u beachten: Wenn ihr einen Kleiderständer mitbringen möchtet\, bucht ein
 en Eckplatz und bestellt zusätzlich 2 Meter Platz dafür. Das Abstellen v
 on Flohmarktware auf den Hallendurchgängen (Rettungswege) ist aus Sicherh
 eitsgründen nicht erlaubt\, also haltet euch bitte an die Anweisungen uns
 erer Mitarbeiter.\n \nParkplätze stehen hinter der Veranstaltungshalle k
 ostenfrei zur Verfügung\, und dank guter Beschilderung findet jeder mühe
 los den Weg zur Stadthalle. Der Eintritt für Besucher beträgt vier Euro.
 \n \nWir wünschen allen Teilnehmern und Besuchern eine erfolgreiche Zeit
 !\n \nEuer EventsCatering Team\n„Die Werbung macht’s“\n \nIrrtüme
 r und Änderungen vorbehalten!\n 
LOCATION:Breitenbergstraße 18 85368 
SUMMARY:Hallen-Nachtflohmarkt in Moosburg 2026
END:VEVENT
END:VCALENDAR
