BEGIN:VCALENDAR
VERSION:2.0
PRODID:icalendar-ruby
CALSCALE:GREGORIAN
BEGIN:VEVENT
DTSTAMP:20260424T185412Z
UID:a68e8fde-cc62-4ba1-854d-386682bc69ef
DTSTART:20270103T100000
DTEND:20270103T160000
DESCRIPTION:ZWEI-LÄNDER HALLEN- ANTIK-FLOHMARKT - erfreut sich großer Bel
 iebtheit und ist ein Publikumsmagnet!\n \nDer Zwei-Länder Hallen-Antik-F
 lohmarkt findet seit 31 Jahren einmal jährlich in der Salzachhalle statt.
  Der Antik-Flohmarkt erstreckt sich über Deutschland und Österreich und 
 hat eine große Tradition.\n \nVeranstaltungsdatum: . Samstag\, 02. bis S
 onntag\, 03. Januar. 2027 (2 Tage)\nStandaufbau: Freitag\, 01. Januar von 
 ca. 15:00 bis 18:00 Uhr – Samstag und Sonntag. von 07:00 - 9:30 Uhr\nÖf
 fnungszeiten: Samstag und Sonntag jeweils  von 10.00 bis 16.00 Uhr\nOrt: 
 Salzachhalle Laufen\, Briouder Platz 1\, D-83410 Laufen a. d. Salzach\nPar
 kmöglichkeiten: Um Ihnen ein bequemes Kommen und Gehen zu ermöglichen\, 
 stehen Ihnen etwa 200 Parkplätze in der Tiefgarage sowie zahlreiche Parkm
 öglichkeiten in der Innenstadt zur Verfügung. Zusätzlich bieten wir kos
 tenlose Parkplätze speziell für Wohnmobile an.\n \nDie Stadt Laufen a. 
 d. Salzach liegt direkt gegenüber von Oberndorf bei Salzburg und unsere V
 eranstaltungen erfreuen sich großer Beliebtheit bei Ausstellern und Besuc
 hern aus beiden Ländern. Die Salzachhalle ist von Salzburg\, Österreich\
 , bequem mit der S-Bahn (S1 u. S11) in nur 48 Minuten zu erreichen.\n \nD
 ie Salzachhalle auf zwei Ebenen\, erwartet Sie mit einer faszinierenden Vi
 elfalt an Artikeln. Von Antiquitäten und Raritäten für Sammler über Br
 iefmarken\, Münzen und Bücher bis hin zu Haushaltsgeräten\, Laptops\, K
 inderspielzeug\, Kinderkleidung\, Markenkleidung\, Jacken\, Mänteln\, Ges
 chirr\, Porzellan und Schmuck– hier finden Sie mit Sicherheit alles\, wo
 nach Sie suchen\, zu äußerst günstigen Preisen. Sogar das eine oder and
 ere seltene Schätzchen wartet hier darauf\, von Ihnen entdeckt zu werden.
  Die Angebote sind liebevoll gepflegt\, und unsere freundlichen Verkäufer
  stehen Ihnen gerne mit Rat und Tat zur Seite. Für den kleinen Hunger zwi
 schendurch ist ebenfalls bestens gesorgt.\n \nUnser Hallen Antik-Flohmark
 t erfreut sich sowohl bei Ausstellern als auch bei Besuchern großer Belie
 btheit\, da er wetterunabhängig ist und somit für Freude und Vergnügen 
 bei jedem Wetter sorgt. Jeder\, egal ob Hausfrau\, Sammler oder Antiquitä
 tenhändler\, herzlich eingeladen ist daran teilzunehmen.\n \nBitte beach
 ten Sie\, dass zur Sicherung Ihres Standplatzes eine schriftliche Reservie
 rung erforderlich ist. Reservieren Sie Ihren Standplatz bequem über folge
 nden Link: https://www.ec-mg.de/kontakt/\n \nDie Standmieten für den Hal
 lenflohmarkt sind wie folgt für 1 Tag Standbuchung:\n• Foyer: 15\,-€ 
 pro laufendem Meter-Tisch (Tische vorhanden)\n• Halle-Wandplatz: 13\,-
 € pro laufendem Meter (Tische mitzubringen)\n• Halle-Eckplatz: 12\,-
 € pro laufendem Meter-Tisch (Tische vorhanden)\n• Halle-Reihenplatz: 1
 1\,-€ pro laufendem Meter-Tisch (Tische vorhanden\, ist ausgebucht)\n•
  Bühne: 9\,-€ pro laufendem Meter (Tische mitzubringen)\n• Hallengän
 ge: 8\,-€ pro laufendem Meter (Tische mitzubringen)\n \nDie Standmieten
  für den Hallenflohmarkt sind wie folgt für 2 Tag Standbuchung:\n• Foy
 er: 20\,-€ pro laufendem Meter-Tisch (Tische vorhanden)\n• Halle-Wandp
 latz: 18\,-€ pro laufendem Meter (Tische mitzubringen)\n• Halle-Eckpla
 tz: 17€ pro laufendem Meter-Tisch (Tische vorhanden)\n• Halle-Reihenpl
 atz: 13\,-€ pro laufendem Meter-Tisch (Tische vorhanden\, ist ausgebucht
 )\n• Bühne: 14\,-€ pro laufendem Meter (Tische mitzubringen) ist ausg
 ebucht\n• Hallengänge: 13\,-€ pro laufendem Meter (Tische mitzubringe
 n)\n \nDie Hallen-Tische haben zwei verschiedene Größen: 1\,75 m x 0\,7
 5 m und 1\,20 m x 0\,75 m. Sollten die vorhandenen Tische nicht ausreichen
 \, haben Aussteller die Möglichkeit\, ihre eigenen Tische zu verwenden.\n
  \nBei der Auswahl des Sandplatzes werden Buchungen für einen Zeitraum v
 on 2 Tagen bevorzugt.\n \nWichtig: Der Abbau der Stände ist erst nach Ve
 ranstaltungsende gestattet. Zudem möchten wir Sie darauf hinweisen\, dass
  das Abstellen von Antik- u. Flohmarktwaren in den Hallendurchgängen (Ret
 tungswege) aus Sicherheitsgründen strengstens untersagt ist.\n \nWir mö
 chten daher alle Teilnehmer und Besucher höflich darum bitten\, den Anwei
 sungen unserer Mitarbeiter bedingungslos zu folgen\, um die Sicherheit all
 er Teilnehmer an der Veranstaltung zu gewährleisten.\n \nWir legen Wert 
 auf Sauberkeit und bitten Sie daher\, Ihren Standplatz sauber zu halten un
 d Ihren Müll nach Veranstaltungsende selbstständig zu entsorgen. Das Ver
 teilen von Werbung jeglicher Art durch Aussteller oder Besucher auf unsere
 n Veranstaltungen ist nicht gestattet. Weitere Informationen zur Marktordn
 ung finden Sie auf unserer Website unter https://www.ec-mg.de/fileadmin/us
 er_upload/PDF/AGB/AGB-_Hallen-Veranstaltungen.pdf\n \nWir bitten um recht
 zeitige\, schriftliche Reservierung\, es stehen nur ca. 70 Ausstellerplät
 ze zur Verfügung. Zur Reservierung per Internet nutzen Sie bitte folgende
 n Link: https://www.ec-mg.de/kontakt/\n \nGeben Sie bei der Standbuchung 
 die gewünschte Meter- oder Tischanzahl an. Wir bearbeiten ausschließlich
  schriftliche Buchungen per E-Mail\, Post oder Fax. Reservierungen per Tel
 efon\, SMS oder WhatsApp werden nicht berücksichtigt. Wenn Sie bereits re
 serviert haben\, ist eine erneute Anmeldung oder Anruf nicht erforderlich.
  Der Eintritt: beträgt Fünf Euro pro Besucher\, während Kinder bis 12 J
 ahre kostenlosen Eintritt erhalten.\n \nDie Salzachhalle ist gut beschild
 ert\, sodass Sie diese problemlos finden können.\n \nWir wünschen allen
  Teilnehmern und Besuchern einen erfolgreichen und angenehmen Aufenthalt.\
 n \nMit herzlichen Grüßen\nIhr EventsCatering Team\n"die Werbung macht
 ’s"\n(Irrtümer und Änderungen vorbehalten!)
LOCATION:Briouder Platz 1 83410 
SUMMARY:Hallen-Antik-Flohmarkt in Laufen 2026
END:VEVENT
END:VCALENDAR
