BEGIN:VCALENDAR
VERSION:2.0
PRODID:icalendar-ruby
CALSCALE:GREGORIAN
BEGIN:VEVENT
DTSTAMP:20260422T202224Z
UID:ccf97d62-d2a3-4561-8956-afac7ed1e413
DTSTART:20270220T160000
DTEND:20270220T220000
DESCRIPTION:Erleben Sie ein unvergessliches Hallen-Flohmarkterlebnis in der
  charmanten Stadt Dingolfing!\n \nDer jährliche 2-tägige Hallen-Flohmar
 kt in der beeindruckenden Dingolfinger Stadthalle öffnet auch dieses Jahr
  wieder seine Pforten. Hier sind die wichtigsten Details\, die Sie wissen 
 sollten:\n \nDatum: Samstag\, 20. und Sonntag\, 21. Februar 2027 (2 Tage)
 \nÖffnungszeiten: Samstag von 16.00 bis 22.00 Uhr\, Sonntag von 10.00 bis
  16.00 Uhr\nOrt: Stadthalle Dingolfing\, Dr.-Josef-Hastreiter-Straße 4\, 
 84130 Dingolfing\nParkmöglichkeiten: Für Ihr bequemes Kommen und Gehen s
 tehen ca. 1000 kostenlose\, geteerte Parkplätze vor der Stadthalle zur Ve
 rfügung.\n \nDie großzügige Veranstaltungsfläche von 1200 Quadratmete
 rn erwartet Sie mit einer faszinierenden Vielfalt an Artikeln. Von Antiqui
 täten und Raritäten für Sammler über Briefmarken\, Münzen und Bücher
  bis hin zu Haushaltsgeräten\, Laptops\, Kinderspielzeug\, Kinderkleidung
 \, Markenkleidung\, Jacken\, Mänteln\, Porzellan\, Geschirr und wertvolle
  Schmuck – hier finden Sie mit Sicherheit alles\, wonach Sie suchen\, zu
  äußerst günstigen Preisen. Sogar das eine oder andere seltene Schätzc
 hen wartet hier darauf\, von Ihnen entdeckt zu werden. Die Angebote sind l
 iebevoll gepflegt\, und unsere freundlichen Verkäufer stehen Ihnen gerne 
 mit Rat und Tat zur Seite. Für den kleinen Hunger zwischendurch ist ebenf
 alls bestens gesorgt.\n \nUnser Hallen-Flohmarkt erfreut sich sowohl bei 
 Ausstellern als auch bei Besuchern großer Beliebtheit\, da er wetterunabh
 ängig ist. Der Standplatz-Aufbau für Aussteller ist am Samstag ab 12.00 
 Uhr und am Sonntag ab 08.30 Uhr möglich. Jeder\, egal ob Hausfrau\, Samml
 er oder Antiquitätenhändler\, der das 18. Lebensjahr erreicht hat\, kann
  als Verkäufer mitmachen.\n \nBitte beachten Sie\, dass zur Sicherung Ih
 res Standplatzes eine schriftliche Reservierung erforderlich ist. Reservie
 ren Sie Ihren Standplatz bequem über folgenden Link: www.ec-mg.de/kontakt
 /\n \nBeachten Sie\, dass die Standtiefe 0\,80 Meter nicht überschreiten
  darf.\n \nNutzen Sie die attraktiven Konditionen für eine 2-tägige Buc
 hung und einer Zahlung per Vorabüberweisung oder PayPal:\nLaufender Meter
  Obergeschoss für 2 Tage in der Halle: 10\,-€ (Tische sind mitzubringen
 )\nLaufender Meter Reihenplatz für 2 Tage in der Halle: 13\,-€ (Tische 
 sind mitzubringen)\nLaufender Meter Reiheneckplatz für 2 Tage in der Hall
 e: 15\,-€ (Tische sind mitzubringen)\nLaufender Meter Wandplatz für 2 T
 age in der Halle: 17\,-€ (Tische sind mitzubringen)\nLaufender Meter Wan
 dplatz für 2 Tage im Foyer: 19\,-€ (Tische sind mitzubringen)\n \n \n
 Die Standgebühren für eine 1-tägige Buchung gestalten sich wie folgt:\n
 Laufender Meter Obergeschoss für 1 Tag in der Halle: 8\,-€ (Tische sind
  mitzubringen)\nLaufender Meter Reihenplatz für 1 Tag in der Halle: 11\,-
 € (Tische sind mitzubringen)\nLaufender Meter Reiheneckplatz für 1 Tag 
 in der Halle: 13\,-€ (Tische sind mitzubringen)\nLaufender Meter Wandpla
 tz für 1 Tag in der Halle: 15\,-€ (Tische sind mitzubringen)\nLaufender
  Meter Wandplatz für 1 Tag im Foyer: 17\,-€ (Tische sind mitzubringen)\
 n \nFür Ihr Mobiliar bieten wir Tische mit einer Größe von 1\,20m x 0\
 ,80m an\, die Sie bei Bedarf gegen eine Leihgebühr von 3\,-€ pro Stück
  und Stühle für 2\,-€ pro Stück mieten können.\n \nWichtig: Der Abb
 au der Stände ist erst nach Veranstaltungsende gestattet. Zudem möchten 
 wir Ihnen darauf hinweisen\, dass das Abstellen von Flohmarktwaren in den 
 Hallendurchgängen (Rettungswege) aus Sicherheitsgründen strengstens unte
 rsagt ist.\n \nWir bitten daher alle Teilnehmer und Besucher\, den Anweis
 ungen unserer Mitarbeiter bedingungslos zu folgen\, um die Sicherheit alle
 r zu gewährleisten.\n \nDie Sauberkeit eures Standplatzes ist Pflicht\, 
 und jeder ist dazu verpflichtet\, seinen Müll mitzunehmen. Das Verteilen 
 von Werbematerial jeglicher Art durch Aussteller oder Besucher während de
 r Veranstaltung ist strengstens untersagt. Mehr Details zu unserer Marktor
 dnung findet ihr auf unserer Website: www.ec-mg.de/agb/\n \n \n \nBitte
  beachten Sie\, dass wir ausschließlich schriftliche Bestellungen per E-M
 ail akzeptieren. Reservierungen\, die telefonisch\, per SMS oder WhatsApp 
 getätigt werden\, können nicht berücksichtigt werden. Falls Sie bereits
  eine Reservierungsbestätigung erhalten haben\, ist eine erneute Anmeldun
 g oder ein Anruf nicht erforderlich.\n \nFür den Flohmarktbesuch erheben
  wir vier Euro Eintritt pro Besucher. Kinder bis 12 Jahre genießen kosten
 freien Zutritt\, sofern sie von einem Erwachsenen begleitet werden.\n \nD
 ie Stadthalle ist gut beschildert\, sodass Sie diese problemlos finden kö
 nnen.\n \nWir wünschen allen Teilnehmern und Besuchern einen erfolgreich
 en und angenehmen Aufenthalt.\n \nMit herzlichen Grüßen\nIhr EventsCate
 ring Team\n"die Werbung macht’s"\n(Irrtümer und Änderungen vorbehalten
 !)
LOCATION:Dr.-Josef-Hastreiter-Straße  84130 
SUMMARY:2-tägige-Hallen-Flohmarkt in Dingolfing 2027
END:VEVENT
END:VCALENDAR
