BEGIN:VCALENDAR
VERSION:2.0
PRODID:icalendar-ruby
CALSCALE:GREGORIAN
BEGIN:VEVENT
DTSTAMP:20260423T214950Z
UID:99311316-2ca5-42fa-879c-2973fec9815a
DTSTART:20260604T060000
DTEND:20260604T160000
DESCRIPTION:Enkler - Einer der günstigsten Veranstalter Süddeutschlands. 
 Bekannt für gutbesuchte und umsatzstarke Floh-\, Trödel-\, Sammler- und 
 Jahrmärkte in Ihrer Nähe. Bekannt und bewährt seit über 25 Jahren!!!\n
 Weitere Infos unter: www.markt-enkler.de\nGerne beantworten wir Ihre Frage
 n\, schreiben Sie uns einfach eine Email:enklers-maerkte@web.de
LOCATION:Am Hallenbad 3 91171 
SUMMARY:Greding Festplatz
END:VEVENT
END:VCALENDAR
