BEGIN:VCALENDAR
VERSION:2.0
PRODID:icalendar-ruby
CALSCALE:GREGORIAN
BEGIN:VEVENT
DTSTAMP:20260424T135732Z
UID:6b13ab15-7473-40fe-aa8e-0e1d2ce5b05f
DTSTART:20260621T110000
DTEND:20260621T170000
DESCRIPTION:Antikmarkt Bonn - FriedensplatzAngeboten werden\, hochwertige A
 ntiquitäten\, Kunst und Design.Veranstaltung geht von 11 bis 17:00 Uhr.\n
 Standort:Friedensplatz\, 53111 Bonn\nAufbau Sonntags ab 7:00 Uhr
LOCATION:Friedensplatz  53111 Beuel
SUMMARY:Antikmarkt Bonn - Friedensplatz
END:VEVENT
END:VCALENDAR
