BEGIN:VCALENDAR
VERSION:2.0
PRODID:icalendar-ruby
CALSCALE:GREGORIAN
BEGIN:VEVENT
DTSTAMP:20260424T130208Z
UID:a7d47846-0248-4e2c-b88e-189cafdfd253
DTSTART:20260816T110000
DTEND:20260816T170000
DESCRIPTION:Antikmarkt Bonn - FriedensplatzAngeboten werden\, hochwertige A
 ntiquitäten\, Kunst und Design.Veranstaltung geht von 11 bis 17:00 Uhr.\n
 Standort:Friedensplatz\, 53111 Bonn\nAufbau Sonntags ab 7:00 Uhr
LOCATION:Friedensplatz  53111 Beuel
SUMMARY:Antikmarkt Bonn - Friedensplatz
END:VEVENT
END:VCALENDAR
