BEGIN:VCALENDAR
VERSION:2.0
PRODID:icalendar-ruby
CALSCALE:GREGORIAN
BEGIN:VEVENT
DTSTAMP:20260424T132229Z
UID:065aaeda-30a0-4df0-a5d9-e9ab04cf690f
DTSTART:20261018T110000
DTEND:20261018T170000
DESCRIPTION:Antikmarkt Bonn - FriedensplatzAngeboten werden\, hochwertige A
 ntiquitäten\, Kunst und Design.Veranstaltung geht von 11 bis 17:00 Uhr.\n
 Standort:Friedensplatz\, 53111 Bonn\nAufbau Sonntags ab 7:00 Uhr
LOCATION:Friedensplatz  53111 Beuel
SUMMARY:Antikmarkt Bonn - Friedensplatz
END:VEVENT
END:VCALENDAR
