BEGIN:VCALENDAR
VERSION:2.0
PRODID:icalendar-ruby
CALSCALE:GREGORIAN
BEGIN:VEVENT
DTSTAMP:20260424T021542Z
UID:46836b4c-b487-4eea-9b2d-361d31f12a13
DTSTART:20260906T110000
DTEND:20260906T170000
DESCRIPTION:Antikmarkt Bad-Honnef\nAngeboten werden\, hochwertige Antiquit
 äten\, Kunst und Design.Veranstaltung geht von 11 bis 17:00 Uhr\nStandort
 :Hauptstr.44\, 53604 Bad HonnefParken: öffentliche Parkplätze Rathauspla
 tz\, Luisenstraße\, Kirchstraße\, Am Saynschen Hof\nAuf und Abbauzeiten:
 Aufbau: 7 bis 9 UhrAbbau: 18 Uhr
LOCATION:Hauptstraße 44 53604 Mitte
SUMMARY:Antikmarkt Bad-Honnef
END:VEVENT
END:VCALENDAR
