BEGIN:VCALENDAR
VERSION:2.0
PRODID:icalendar-ruby
CALSCALE:GREGORIAN
BEGIN:VEVENT
DTSTAMP:20260423T162538Z
UID:c5fa7d95-50ec-44b7-84d3-3c1dec540a82
DTSTART:20260606T080000
DTEND:20260606T170000
DESCRIPTION:
LOCATION:Heinrich-Plett-Straße  34132 Oberzwehren
SUMMARY:Tiefgarage UNI Kassel-Brückenhof 
END:VEVENT
END:VCALENDAR
