BEGIN:VCALENDAR
VERSION:2.0
PRODID:icalendar-ruby
CALSCALE:GREGORIAN
BEGIN:VEVENT
DTSTAMP:20260423T162457Z
UID:8bc0d36a-6948-42df-bf26-7b5e4530aef2
DTSTART:20260801T080000
DTEND:20260801T170000
DESCRIPTION:
LOCATION:Heinrich-Plett-Straße  34132 Oberzwehren
SUMMARY:Tiefgarage UNI Kassel-Brückenhof 
END:VEVENT
END:VCALENDAR
