BEGIN:VCALENDAR
VERSION:2.0
PRODID:icalendar-ruby
CALSCALE:GREGORIAN
BEGIN:VEVENT
DTSTAMP:20260423T144605Z
UID:66250354-1f55-4b0a-886a-b52e5b494cd0
DTSTART:20260802T080000
DTEND:20260802T170000
DESCRIPTION:
LOCATION:Heinrich-Plett-Straße  34132 Oberzwehren
SUMMARY:Tiefgarage UNI Kassel-Brückenhof 
END:VEVENT
END:VCALENDAR
