BEGIN:VCALENDAR
VERSION:2.0
PRODID:icalendar-ruby
CALSCALE:GREGORIAN
BEGIN:VEVENT
DTSTAMP:20260423T162651Z
UID:96c97788-bbb3-41ca-9894-d01c3f7c3827
DTSTART:20261004T080000
DTEND:20261004T170000
DESCRIPTION:
LOCATION:Heinrich-Plett-Straße  34132 Oberzwehren
SUMMARY:Tiefgarage UNI Kassel-Brückenhof 
END:VEVENT
END:VCALENDAR
