BEGIN:VCALENDAR
VERSION:2.0
PRODID:icalendar-ruby
CALSCALE:GREGORIAN
BEGIN:VEVENT
DTSTAMP:20260423T162457Z
UID:b2383df2-f6ce-4d6f-bc14-a1f92ae0ac0a
DTSTART:20261205T080000
DTEND:20261205T170000
DESCRIPTION:
LOCATION:Heinrich-Plett-Straße  34132 Oberzwehren
SUMMARY:Tiefgarage UNI Kassel-Brückenhof 
END:VEVENT
END:VCALENDAR
