BEGIN:VCALENDAR
VERSION:2.0
PRODID:icalendar-ruby
CALSCALE:GREGORIAN
BEGIN:VEVENT
DTSTAMP:20260423T233909Z
UID:84429d85-fd68-4306-8597-368dcf181f05
DTSTART:20260926T130000
DTEND:20260926T163000
DESCRIPTION:Dein Fashion-EventAm Samstag\, den 26.09.2026\, lädt der Mädc
 henflohmarkt Ingolstadt zum Stöbern ein. Von 13 bis 16.30 Uhr kannst du i
 m Kulturzentrum neun neue Trends entdecken.\nKein gewöhnlicher FlohmarktD
 er Flohmarkt Ingolstadt wird hier neu gedacht. Der Fokus liegt auf Mode 
 – der Klamottenflohmarkt Ingolstadt bietet dir sorgfältig ausgewählte 
 Kleidung.\nDer Fashionmarkt Ingolstadt kombiniert Secondhand Mode\, Vintag
 e Kleidung und Markenartikel.\nGroße AuswahlDer Frauenflohmarkt Ingolstad
 t bietet Mode für alle – inklusive Curvy und Plus Size. Accessoires wie
  Schmuck\, Taschen und Schuhe ergänzen das Angebot.\nNachhaltigkeit triff
 t StilDer Secondhand Markt Ingolstadt zeigt\, dass nachhaltiges Shoppen mo
 dern sein kann. Der Vintage Markt Ingolstadt bringt besondere Einzelstück
 e hervor.\nShopping mit FreundinnenGemeinsam macht es mehr Spaß: Der Mäd
 chenflohmarkt Ingolstadt bietet eine entspannte Atmosphäre mit Musik.\nGu
 t erreichbarDie Location in der Elisabethstraße 9a ist zentral und bequem
  erreichbar.\nTeilnahmeEintritt: 4 € (Kinder bis 10 frei)Stand buchen:ht
 tps://www.beauty-jungle.de/anmeldung_und_termine/
LOCATION:Elisabethstraße 9a 85051 Münchner Straße
SUMMARY:Beauty Jungle Mädchenflohmarkt Ingolstadt
END:VEVENT
END:VCALENDAR
