BEGIN:VCALENDAR
VERSION:2.0
PRODID:icalendar-ruby
CALSCALE:GREGORIAN
BEGIN:VEVENT
DTSTAMP:20260424T173037Z
UID:182cba8b-c454-4003-8b65-70b2bd77fc24
DTSTART:20261011T130000
DTEND:20261011T170000
DESCRIPTION:Shopping\, das Spaß machtDer Mädchenflohmarkt Neubrandenburg 
 bringt am 11.10.2026 frischen Wind in die Stadt. Zwischen 13:00 und 17:00 
 Uhr kannst du im Haus der Kultur und Bildung auf Entdeckungstour gehen.\nM
 ode statt MassenwareDer Flohmarkt Neubrandenburg zeigt sich hier von seine
 r modernen Seite. Beim Klamottenflohmarkt Neubrandenburg findest du aussch
 ließlich Kleidung und Accessoires.\nDer Fashionmarkt Neubrandenburg kombi
 niert Secondhand Mode mit Vintage Kleidung und ausgewählter Markenmode.\n
 Große Auswahl erlebenDer Frauenflohmarkt Neubrandenburg spricht unterschi
 edliche Stilrichtungen an und integriert selbstverständlich auch Curvy un
 d Plus Size Mode.\nZusätzlich gibt es Schmuck\, Taschen und Schuhe\, die 
 dein Outfit perfekt ergänzen.\nBewusst einkaufenDer Secondhand Markt Neub
 randenburg steht für nachhaltiges Shoppen. Der Vintage Markt Neubrandenbu
 rg bringt dabei besondere Einzelstücke ins Spiel.\nGemeinsam entdeckenMit
  Freundinnen macht das Stöbern doppelt Spaß. Musik vor Ort sorgt für ei
 ne lockere Stimmung.\nZentrale LocationDas Haus der Kultur und Bildung am 
 Marktplatz 1 ist leicht erreichbar.\nDetailsEintritt: 4 € (Kinder bis 10
  frei)Standbuchung:https://www.beauty-jungle.de/anmeldung_und_termine/
LOCATION:Marktplatz 1 17033 
SUMMARY:Beauty Jungle Mädchenflohmarkt Neubrandenburg
END:VEVENT
END:VCALENDAR
