BEGIN:VCALENDAR
VERSION:2.0
PRODID:icalendar-ruby
CALSCALE:GREGORIAN
BEGIN:VEVENT
DTSTAMP:20260423T233900Z
UID:227ff5ec-0da4-488c-8381-2a3e31ebe79e
DTSTART:20260920T110000
DTEND:20260920T180000
DESCRIPTION:dp.maerkte....\n....es ist soweit....\n....am 31.05. öffnen si
 ch die Tore auf dem Parkplatz bei Möbel Hardeck zum Trödelmarkt.\nHerzli
 ch eingeladen sind Groß und Klein\, Besucher\, private Verkäufer\, Semi-
 Profis und professionelle Händler zum feilschen\, stöbern und um das ein
  oder andere Schnäppchen zu ergattern.\nFür das leibliche Wohl ist gesor
 gt.\nUnser Angebot für private Verkäufer: 5 Meter für 45 €\nWir freue
 n uns auf euch....
LOCATION:Heinrich-Heine-Straße 85 40721 
SUMMARY:Trödelmarkt Möbel Hardeck Hilden
END:VEVENT
END:VCALENDAR
